

BEGIN:VCALENDAR
VERSION:2.0
PRODID:-//hacksw/handcal//NONSGML v1.0//EN
CALSCALE:GREGORIAN
BEGIN:VEVENT
DTEND:20210401T210000
UID:603491ad9092e
DTSTAMP:20210223T162501
LOCATION:Bendigo Town Hall 189 Hargreaves Street Bendigo 3550 VIC
DESCRIPTION:The Rotary Easter Art Show is the premier art show in the region with around 700 works of art\, predominately by local artists\, on display.
A preview evening will be held on Thursday\, 1st April.&nbsp\;&nbsp\;
The format of this event will be two one hour sessions\, one from 6.30pm to 7.30pm and the second one from 8.00pm to 9.00pm.
Tickets will soon be available for purchase at $15 per person from the Bendigo Tourism website.&nbsp\;&nbsp\;
A link to website bookings will be available soon.
&nbsp\;
URL;VALUE=URI:http://bendigoartshow.com.au/event/41203
SUMMARY:Bendigo Rotary Easter Art Show 2021 Preview Evening
DTSTART:20210401T183000
END:VEVENT
END:VCALENDAR

